BEGIN:VCALENDAR
VERSION:2.0
PRODID:SchoolNow
CALSCALE:GREGORIAN
BEGIN:VEVENT
UID:6c405276-a6c3-11ec-ad13-0adeec31b46d
DTSTAMP:20220318T135800Z
SUMMARY:New Families Open House
URL;VALUE=URI:https://www.materdeicatholic.com/calendar/3136605/new-familie
 s-open-house
DTSTART:20220321T223000Z
DTEND:20220321T233000Z
END:VEVENT
END:VCALENDAR
