BEGIN:VCALENDAR
VERSION:2.0
PRODID:SchoolNow
CALSCALE:GREGORIAN
BEGIN:VEVENT
UID:fd3228d2-a6c2-11ec-9860-0adeec31b46d
DTSTAMP:20220318T135454Z
SUMMARY:Summer Uniforms Begin
URL;VALUE=URI:https://www.materdeicatholic.com/calendar/3136604/summer-unif
 orms-begin
DTSTART;VALUE=DATE:20220404
DTEND;VALUE=DATE:20220405
END:VEVENT
END:VCALENDAR
