BEGIN:VCALENDAR
VERSION:2.0
PRODID:SchoolNow
CALSCALE:GREGORIAN
BEGIN:VEVENT
UID:68571874-9d73-11ec-a518-0283c0b3a879
DTSTAMP:20221229T145753Z
SUMMARY:Giuseppe's Dine and Donate
LOCATION:101 Cowpath Road\, Lansdale
URL;VALUE=URI:https://www.materdeicatholic.com/calendar/3125940/giuseppes-d
 ine-and-donate
DTSTART:20220515T160000Z
DTEND:20220516T000000Z
END:VEVENT
END:VCALENDAR
