BEGIN:VCALENDAR
VERSION:2.0
PRODID:SchoolNow
CALSCALE:GREGORIAN
BEGIN:VEVENT
UID:a37ee3b6-9d71-11ec-a754-0a6bcde30b9b
DTSTAMP:20220519T111424Z
SUMMARY:Sweetheart Dance
URL;VALUE=URI:https://www.materdeicatholic.com/calendar/3125939/sweetheart-
 dance
DTSTART:20220603T223000Z
DTEND:20220604T010000Z
END:VEVENT
END:VCALENDAR
