BEGIN:VCALENDAR
VERSION:2.0
PRODID:SchoolNow
CALSCALE:GREGORIAN
BEGIN:VEVENT
UID:f574d3fc-9d70-11ec-9aa4-0a6bcde30b9b
DTSTAMP:20220311T190746Z
SUMMARY:Used Uniform Exchange
LOCATION:Mater Dei parking lot by Gym entrance
URL;VALUE=URI:https://www.materdeicatholic.com/calendar/3125834/used-unifor
 m-exchange
DTSTART:20220319T140000Z
DTEND:20220319T160000Z
END:VEVENT
END:VCALENDAR
