BEGIN:VCALENDAR
VERSION:2.0
PRODID:SchoolNow
CALSCALE:GREGORIAN
BEGIN:VEVENT
UID:869f64e2-9d70-11ec-a0fd-0a6bcde30b9b
DTSTAMP:20220306T171156Z
SUMMARY:Volunteer Sign-up Night
URL;VALUE=URI:https://www.materdeicatholic.com/calendar/3125833/volunteer-s
 ign-up-night
DTSTART:20220311T000000Z
DTEND:20220311T010000Z
END:VEVENT
END:VCALENDAR
