BEGIN:VCALENDAR
VERSION:2.0
PRODID:SchoolNow
CALSCALE:GREGORIAN
BEGIN:VEVENT
UID:806e6c82-8e78-11ec-bee2-02ad222c6281
DTSTAMP:20220215T160114Z
SUMMARY:Il Giardino Dine and Donate
URL;VALUE=URI:https://www.materdeicatholic.com/calendar/3104270/il-giardino
 -dine-and-donate
DTSTART;VALUE=DATE:20220307
DTEND;VALUE=DATE:20220308
END:VEVENT
END:VCALENDAR
