BEGIN:VCALENDAR
VERSION:2.0
PRODID:SchoolNow
CALSCALE:GREGORIAN
BEGIN:VEVENT
UID:ba0b0e7c-87a8-11ec-aca5-0e4dcd79b7bf
DTSTAMP:20220206T235848Z
SUMMARY:Progress Reports
URL;VALUE=URI:https://www.materdeicatholic.com/calendar/3093983/progress-re
 ports
DTSTART;VALUE=DATE:20220211
DTEND;VALUE=DATE:20220212
END:VEVENT
END:VCALENDAR
