BEGIN:VCALENDAR
VERSION:2.0
PRODID:SchoolNow
CALSCALE:GREGORIAN
BEGIN:VEVENT
UID:d2ba8ee4-7df7-11ec-a957-02e67ed55d03
DTSTAMP:20220125T155948Z
SUMMARY:Polar Plunge Fest
URL;VALUE=URI:https://www.materdeicatholic.com/calendar/3081317/polar-plung
 e-fest
DTSTART;VALUE=DATE:20220220
DTEND;VALUE=DATE:20220221
END:VEVENT
END:VCALENDAR
