BEGIN:VCALENDAR
VERSION:2.0
PRODID:SchoolNow
CALSCALE:GREGORIAN
BEGIN:VEVENT
UID:ff87cea8-7df4-11ec-b744-024f6f0f9565
DTSTAMP:20221229T150551Z
SUMMARY:Texas Roadhouse Dine and Donate
LOCATION:Texas Roadhouse in Montgomeryville
URL;VALUE=URI:https://www.materdeicatholic.com/calendar/3081306/texas-roadh
 ouse-dine-and-donate
DTSTART:20220208T210000Z
DTEND:20220209T020000Z
END:VEVENT
END:VCALENDAR
