BEGIN:VCALENDAR
VERSION:2.0
PRODID:SchoolNow
CALSCALE:GREGORIAN
BEGIN:VEVENT
UID:1cdb30d6-4bb3-11ec-ba93-0af1d269ed1f
DTSTAMP:20211122T164159Z
SUMMARY:Pour House Dine and Donate
URL;VALUE=URI:https://www.materdeicatholic.com/calendar/2907420/pour-house-
 dine-and-donate
DTSTART:20220111T210000Z
DTEND:20220112T010000Z
END:VEVENT
END:VCALENDAR
