BEGIN:VCALENDAR
VERSION:2.0
PRODID:SchoolNow
CALSCALE:GREGORIAN
BEGIN:VEVENT
UID:f6945b86-1b98-11ec-a6f7-02fbecb0efad
DTSTAMP:20221229T150248Z
SUMMARY:Texas Roadhouse Dining Night Out
URL;VALUE=URI:https://www.materdeicatholic.com/calendar/2755360/texas-roadh
 ouse-dining-night-out
DTSTART:20211014T200000Z
DTEND:20211015T010000Z
END:VEVENT
END:VCALENDAR
