BEGIN:VCALENDAR
VERSION:2.0
PRODID:SchoolNow
CALSCALE:GREGORIAN
BEGIN:VEVENT
UID:2d89292e-0ce8-11ec-9d2d-0a3913afadab
DTSTAMP:20210922T202106Z
SUMMARY:Home & School Golf Outing
LOCATION:Mainland Golf Club
URL;VALUE=URI:https://www.materdeicatholic.com/calendar/2704489/home-school
 -golf-outing
DTSTART;VALUE=DATE:20211015
DTEND;VALUE=DATE:20211016
ATTACH;FILENAME=;FMTTYPE=application/octet-stream:
ATTACH;FILENAME=;FMTTYPE=application/octet-stream:
END:VEVENT
END:VCALENDAR
