BEGIN:VCALENDAR
VERSION:2.0
PRODID:SchoolNow
CALSCALE:GREGORIAN
BEGIN:VEVENT
UID:1340906c-f3ba-11eb-ac15-02d01928fca9
DTSTAMP:20210802T175007Z
SUMMARY:Summer Camp Begins
URL;VALUE=URI:https://www.materdeicatholic.com/calendar/2652432/summer-camp
 -begins
DTSTART;VALUE=DATE:20220627
DTEND;VALUE=DATE:20220628
END:VEVENT
END:VCALENDAR
