BEGIN:VCALENDAR
VERSION:2.0
PRODID:SchoolNow
CALSCALE:GREGORIAN
BEGIN:VEVENT
UID:079185be-f3ba-11eb-a2ee-02d01928fca9
DTSTAMP:20220605T232814Z
SUMMARY:11: 30 AM Early Dismissal
URL;VALUE=URI:https://www.materdeicatholic.com/calendar/2652431/early-dismi
 ssal
DTSTART;VALUE=DATE:20220615
DTEND;VALUE=DATE:20220616
END:VEVENT
END:VCALENDAR
