BEGIN:VCALENDAR
VERSION:2.0
PRODID:SchoolNow
CALSCALE:GREGORIAN
BEGIN:VEVENT
UID:f36cd6f6-f3b9-11eb-9d12-02d01928fca9
DTSTAMP:20210802T174914Z
SUMMARY:Closing School Liturgy
LOCATION:St. Stanislaus Church
URL;VALUE=URI:https://www.materdeicatholic.com/calendar/2652430/closing-sch
 ool-liturgy
DTSTART:20220615T133000Z
DTEND:20220615T143000Z
END:VEVENT
END:VCALENDAR
