BEGIN:VCALENDAR
VERSION:2.0
PRODID:SchoolNow
CALSCALE:GREGORIAN
BEGIN:VEVENT
UID:e966c34c-f3b9-11eb-a7ab-02d01928fca9
DTSTAMP:20210802T174857Z
SUMMARY:Closing School Liturgy
LOCATION:St. Stanislaus Church
URL;VALUE=URI:https://www.materdeicatholic.com/calendar/2652428/closing-sch
 ool-liturgy
DTSTART:20210802T133000Z
DTEND:20210802T143000Z
END:VEVENT
END:VCALENDAR
