BEGIN:VCALENDAR
VERSION:2.0
PRODID:SchoolNow
CALSCALE:GREGORIAN
BEGIN:VEVENT
UID:d5a26942-f3b9-11eb-8b6b-02d01928fca9
DTSTAMP:20210802T174824Z
SUMMARY:Third Trimester Ends
URL;VALUE=URI:https://www.materdeicatholic.com/calendar/2652427/third-trime
 ster-ends
DTSTART;VALUE=DATE:20220615
DTEND;VALUE=DATE:20220616
END:VEVENT
END:VCALENDAR
