BEGIN:VCALENDAR
VERSION:2.0
PRODID:SchoolNow
CALSCALE:GREGORIAN
BEGIN:VEVENT
UID:bf3acbae-f3b9-11eb-a8d3-02d01928fca9
DTSTAMP:20210802T175104Z
SUMMARY:Full Day of School Gr. 1-7
URL;VALUE=URI:https://www.materdeicatholic.com/calendar/2652426/full-day-of
 -school
DTSTART;VALUE=DATE:20220614
DTEND;VALUE=DATE:20220615
END:VEVENT
END:VCALENDAR
