BEGIN:VCALENDAR
VERSION:2.0
PRODID:SchoolNow
CALSCALE:GREGORIAN
BEGIN:VEVENT
UID:9dfddf30-f3b9-11eb-92f3-02d01928fca9
DTSTAMP:20210802T174722Z
SUMMARY:Field Day - Gr. 1-7
URL;VALUE=URI:https://www.materdeicatholic.com/calendar/2652424/field-day-g
 r-1-7
DTSTART;VALUE=DATE:20220614
DTEND;VALUE=DATE:20220615
END:VEVENT
END:VCALENDAR
