BEGIN:VCALENDAR
VERSION:2.0
PRODID:SchoolNow
CALSCALE:GREGORIAN
BEGIN:VEVENT
UID:905c805c-f3b9-11eb-854d-02d01928fca9
DTSTAMP:20220605T233009Z
SUMMARY:11:30 Early Dismissal
URL;VALUE=URI:https://www.materdeicatholic.com/calendar/2652423/early-dismi
 ssal
DTSTART;VALUE=DATE:20220613
DTEND;VALUE=DATE:20220614
END:VEVENT
END:VCALENDAR
