BEGIN:VCALENDAR
VERSION:2.0
PRODID:SchoolNow
CALSCALE:GREGORIAN
BEGIN:VEVENT
UID:7bda8444-f3b9-11eb-897e-02d01928fca9
DTSTAMP:20220606T124520Z
SUMMARY:Kindergarten Graduation
LOCATION:St. Stanislaus Church
URL;VALUE=URI:https://www.materdeicatholic.com/calendar/2652421/kindergarte
 n-graduation
DTSTART:20220613T140000Z
DTEND:20220613T150000Z
END:VEVENT
END:VCALENDAR
