BEGIN:VCALENDAR
VERSION:2.0
PRODID:SchoolNow
CALSCALE:GREGORIAN
BEGIN:VEVENT
UID:603edf1e-f3b9-11eb-8883-02d01928fca9
DTSTAMP:20220318T140346Z
SUMMARY:Eighth Grade Graduation
LOCATION:St. Rose of Lima Church
URL;VALUE=URI:https://www.materdeicatholic.com/calendar/2652420/eighth-grad
 e-graduation
DTSTART:20220612T213000Z
DTEND:20220612T230000Z
END:VEVENT
END:VCALENDAR
