BEGIN:VCALENDAR
VERSION:2.0
PRODID:SchoolNow
CALSCALE:GREGORIAN
BEGIN:VEVENT
UID:4465345a-f3b9-11eb-82ad-02d01928fca9
DTSTAMP:20210802T174420Z
SUMMARY:Last Day of School for Pre-K
URL;VALUE=URI:https://www.materdeicatholic.com/calendar/2652419/last-day-of
 -school-for-pre-k
DTSTART;VALUE=DATE:20220610
DTEND;VALUE=DATE:20220611
END:VEVENT
END:VCALENDAR
