BEGIN:VCALENDAR
VERSION:2.0
PRODID:SchoolNow
CALSCALE:GREGORIAN
BEGIN:VEVENT
UID:1e05f556-f3b9-11eb-b959-02d01928fca9
DTSTAMP:20210802T174316Z
SUMMARY:End of the Year Assessments
URL;VALUE=URI:https://www.materdeicatholic.com/calendar/2652416/end-of-the-
 year-assessments
DTSTART;VALUE=DATE:20220601
DTEND;VALUE=DATE:20220604
END:VEVENT
END:VCALENDAR
