BEGIN:VCALENDAR
VERSION:2.0
PRODID:SchoolNow
CALSCALE:GREGORIAN
BEGIN:VEVENT
UID:f38c482a-f3b8-11eb-b8af-02d01928fca9
DTSTAMP:20210802T174205Z
SUMMARY:Classes Resume
URL;VALUE=URI:https://www.materdeicatholic.com/calendar/2652414/classes-res
 ume
DTSTART;VALUE=DATE:20220531
DTEND;VALUE=DATE:20220601
END:VEVENT
END:VCALENDAR
