BEGIN:VCALENDAR
VERSION:2.0
PRODID:SchoolNow
CALSCALE:GREGORIAN
BEGIN:VEVENT
UID:e6f204ba-f3b8-11eb-9576-02d01928fca9
DTSTAMP:20220401T140644Z
SUMMARY:No School: May 30\, 2022
URL;VALUE=URI:https://www.materdeicatholic.com/calendar/2652413/no-school
DTSTART;VALUE=DATE:20220530
DTEND;VALUE=DATE:20220531
END:VEVENT
END:VCALENDAR
