BEGIN:VCALENDAR
VERSION:2.0
PRODID:SchoolNow
CALSCALE:GREGORIAN
BEGIN:VEVENT
UID:d6507768-f3b8-11eb-9a06-02d01928fca9
DTSTAMP:20220401T140630Z
SUMMARY:No School: May 27\, 2022
URL;VALUE=URI:https://www.materdeicatholic.com/calendar/2652412/no-school
DTSTART;VALUE=DATE:20220527
DTEND;VALUE=DATE:20220528
END:VEVENT
END:VCALENDAR
