BEGIN:VCALENDAR
VERSION:2.0
PRODID:SchoolNow
CALSCALE:GREGORIAN
BEGIN:VEVENT
UID:c7c7e028-f3b8-11eb-9b11-02d01928fca9
DTSTAMP:20220401T140614Z
SUMMARY:No School: May 26\, 2022
URL;VALUE=URI:https://www.materdeicatholic.com/calendar/2652410/no-school
DTSTART;VALUE=DATE:20220526
DTEND;VALUE=DATE:20220527
END:VEVENT
END:VCALENDAR
