BEGIN:VCALENDAR
VERSION:2.0
PRODID:SchoolNow
CALSCALE:GREGORIAN
BEGIN:VEVENT
UID:9eaa5ff4-f3b8-11eb-970a-02d01928fca9
DTSTAMP:20210802T173942Z
SUMMARY:National Junior Honor Society Induction
LOCATION:St. Stanislaus Church
URL;VALUE=URI:https://www.materdeicatholic.com/calendar/2652409/national-ju
 nior-honor-society-induction
DTSTART:20220524T180000Z
DTEND:20220524T190000Z
END:VEVENT
END:VCALENDAR
