BEGIN:VCALENDAR
VERSION:2.0
PRODID:SchoolNow
CALSCALE:GREGORIAN
BEGIN:VEVENT
UID:515a1ba4-f3b8-11eb-825a-02d01928fca9
DTSTAMP:20210802T173732Z
SUMMARY:Welcome Night for New Students (PreK and K)
URL;VALUE=URI:https://www.materdeicatholic.com/calendar/2652406/welcome-nig
 ht-for-new-students-prek-and-k
DTSTART:20220519T223000Z
DTEND:20220519T233000Z
END:VEVENT
END:VCALENDAR
