BEGIN:VCALENDAR
VERSION:2.0
PRODID:SchoolNow
CALSCALE:GREGORIAN
BEGIN:VEVENT
UID:2c8fd0b6-f3b8-11eb-9e88-02d01928fca9
DTSTAMP:20210802T173631Z
SUMMARY:May Procession
LOCATION:St. Stanislaus Church
URL;VALUE=URI:https://www.materdeicatholic.com/calendar/2652405/may-process
 ion
DTSTART:20220517T171500Z
DTEND:20220517T184500Z
END:VEVENT
END:VCALENDAR
