BEGIN:VCALENDAR
VERSION:2.0
PRODID:SchoolNow
CALSCALE:GREGORIAN
BEGIN:VEVENT
UID:a0025f10-f3b7-11eb-9ce9-02d01928fca9
DTSTAMP:20220519T111240Z
SUMMARY:Home & School Assoc. Trivia Night
LOCATION:Mater Dei Catholic School Gym
URL;VALUE=URI:https://www.materdeicatholic.com/calendar/2652401/home-school
 -association-trivia-night
DTSTART:20220604T223000Z
DTEND:20220605T023000Z
END:VEVENT
END:VCALENDAR
