BEGIN:VCALENDAR
VERSION:2.0
PRODID:SchoolNow
CALSCALE:GREGORIAN
BEGIN:VEVENT
UID:52b0ac68-f3b6-11eb-b338-02d01928fca9
DTSTAMP:20221229T145443Z
SUMMARY:Home & School Assoc. Designer Bag Bingo
LOCATION:Mater Dei Catholic School Gym
URL;VALUE=URI:https://www.materdeicatholic.com/calendar/2652396/home-school
 -association-final-general-meeting
DTSTART:20220503T220000Z
DTEND:20220504T010000Z
END:VEVENT
END:VCALENDAR
