BEGIN:VCALENDAR
VERSION:2.0
PRODID:SchoolNow
CALSCALE:GREGORIAN
BEGIN:VEVENT
UID:1ae49394-f3b6-11eb-90cc-02d01928fca9
DTSTAMP:20210802T172142Z
SUMMARY:Teacher Appreciation Week
URL;VALUE=URI:https://www.materdeicatholic.com/calendar/2652395/teacher-app
 reciation-week
DTSTART;VALUE=DATE:20220502
DTEND;VALUE=DATE:20220507
END:VEVENT
END:VCALENDAR
