BEGIN:VCALENDAR
VERSION:2.0
PRODID:SchoolNow
CALSCALE:GREGORIAN
BEGIN:VEVENT
UID:fee2503c-f3b5-11eb-988f-02d01928fca9
DTSTAMP:20220421T122303Z
SUMMARY:Progress Reports
URL;VALUE=URI:https://www.materdeicatholic.com/calendar/2652393/progress-re
 ports
DTSTART;VALUE=DATE:20220506
DTEND;VALUE=DATE:20220507
END:VEVENT
END:VCALENDAR
