BEGIN:VCALENDAR
VERSION:2.0
PRODID:SchoolNow
CALSCALE:GREGORIAN
BEGIN:VEVENT
UID:df1603ca-f3b5-11eb-a27c-02d01928fca9
DTSTAMP:20210802T172002Z
SUMMARY:Easter School Liturgy
LOCATION:St. Stanislaus Church
URL;VALUE=URI:https://www.materdeicatholic.com/calendar/2652392/easter-scho
 ol-liturgy
DTSTART:20220421T150000Z
DTEND:20220421T160000Z
END:VEVENT
END:VCALENDAR
