BEGIN:VCALENDAR
VERSION:2.0
PRODID:SchoolNow
CALSCALE:GREGORIAN
BEGIN:VEVENT
UID:b17476ea-f3b5-11eb-98c5-02d01928fca9
DTSTAMP:20210802T171845Z
SUMMARY:Classes Resume
URL;VALUE=URI:https://www.materdeicatholic.com/calendar/2652391/classes-res
 ume
DTSTART;VALUE=DATE:20220419
DTEND;VALUE=DATE:20220420
END:VEVENT
END:VCALENDAR
