BEGIN:VCALENDAR
VERSION:2.0
PRODID:SchoolNow
CALSCALE:GREGORIAN
BEGIN:VEVENT
UID:a1631bc6-f3b5-11eb-9051-02d01928fca9
DTSTAMP:20220401T140654Z
SUMMARY:Easter Break 2022
URL;VALUE=URI:https://www.materdeicatholic.com/calendar/2652390/easter-brea
 k
DTSTART;VALUE=DATE:20220414
DTEND;VALUE=DATE:20220419
END:VEVENT
END:VCALENDAR
