BEGIN:VCALENDAR
VERSION:2.0
PRODID:SchoolNow
CALSCALE:GREGORIAN
BEGIN:VEVENT
UID:2e6f536e-f3b5-11eb-b606-02d01928fca9
DTSTAMP:20210802T171505Z
SUMMARY:Spring Pictures by LifeTouch
URL;VALUE=URI:https://www.materdeicatholic.com/calendar/2652389/spring-pict
 ures-by-lifetouch
DTSTART;VALUE=DATE:20220411
DTEND;VALUE=DATE:20220412
END:VEVENT
END:VCALENDAR
