BEGIN:VCALENDAR
VERSION:2.0
PRODID:SchoolNow
CALSCALE:GREGORIAN
BEGIN:VEVENT
UID:7102b17c-f3b4-11eb-bb07-0ef7a93f529d
DTSTAMP:20220401T140518Z
SUMMARY:Spring Musical: Apr 3\, 2022\, 2:00 PM - 4:00 PM
LOCATION:Mater Dei Catholic School Gym
URL;VALUE=URI:https://www.materdeicatholic.com/calendar/2652354/spring-musi
 cal
DTSTART:20220403T180000Z
DTEND:20220403T200000Z
END:VEVENT
END:VCALENDAR
