BEGIN:VCALENDAR
VERSION:2.0
PRODID:SchoolNow
CALSCALE:GREGORIAN
BEGIN:VEVENT
UID:5db2e98e-f3b4-11eb-9e8d-0ef7a93f529d
DTSTAMP:20220401T140503Z
SUMMARY:Spring Musical: Apr 2\, 2022\, 7:00 PM - 9:00 PM
LOCATION:Mater Dei Catholic School Gym
URL;VALUE=URI:https://www.materdeicatholic.com/calendar/2652352/spring-musi
 cal
DTSTART:20220402T230000Z
DTEND:20220403T010000Z
END:VEVENT
END:VCALENDAR
