BEGIN:VCALENDAR
VERSION:2.0
PRODID:SchoolNow
CALSCALE:GREGORIAN
BEGIN:VEVENT
UID:47bdeb56-f3b4-11eb-b4b1-0ef7a93f529d
DTSTAMP:20220401T140448Z
SUMMARY:Spring Musical: Apr 2\, 2022\, 2:00 PM - 4:00 PM
LOCATION:Mater Dei Catholic School Gym
URL;VALUE=URI:https://www.materdeicatholic.com/calendar/2652351/spring-musi
 cal
DTSTART:20220402T180000Z
DTEND:20220402T200000Z
END:VEVENT
END:VCALENDAR
