BEGIN:VCALENDAR
VERSION:2.0
PRODID:SchoolNow
CALSCALE:GREGORIAN
BEGIN:VEVENT
UID:04c46bc2-f3b4-11eb-961f-0ef7a93f529d
DTSTAMP:20220401T140430Z
SUMMARY:Spring Musical: Apr 1\, 2022\,  7:00 PM - 9:00 PM
LOCATION:Mater Dei Catholic School Gym
URL;VALUE=URI:https://www.materdeicatholic.com/calendar/2652347/spring-musi
 cal
DTSTART:20220401T230000Z
DTEND:20220402T010000Z
END:VEVENT
END:VCALENDAR
