BEGIN:VCALENDAR
VERSION:2.0
PRODID:SchoolNow
CALSCALE:GREGORIAN
BEGIN:VEVENT
UID:bd105a70-f3b3-11eb-9711-0ef7a93f529d
DTSTAMP:20210802T170446Z
SUMMARY:Report Cards
URL;VALUE=URI:https://www.materdeicatholic.com/calendar/2652346/report-card
 s
DTSTART;VALUE=DATE:20220318
DTEND;VALUE=DATE:20220319
END:VEVENT
END:VCALENDAR
