BEGIN:VCALENDAR
VERSION:2.0
PRODID:SchoolNow
CALSCALE:GREGORIAN
BEGIN:VEVENT
UID:6d1c698c-f3b3-11eb-9448-0ef7a93f529d
DTSTAMP:20220401T140735Z
SUMMARY:No School: Mar 18\, 2022
URL;VALUE=URI:https://www.materdeicatholic.com/calendar/2652342/no-school
DTSTART;VALUE=DATE:20220318
DTEND;VALUE=DATE:20220319
END:VEVENT
END:VCALENDAR
