BEGIN:VCALENDAR
VERSION:2.0
PRODID:SchoolNow
CALSCALE:GREGORIAN
BEGIN:VEVENT
UID:52ccb0fa-f3b3-11eb-9951-0ef7a93f529d
DTSTAMP:20210802T172647Z
SUMMARY:Home & School Association Pot of Gold Drawing
URL;VALUE=URI:https://www.materdeicatholic.com/calendar/2652341/home-and-sc
 hool-pot-of-gold-drawing
DTSTART;VALUE=DATE:20220317
DTEND;VALUE=DATE:20220318
END:VEVENT
END:VCALENDAR
