BEGIN:VCALENDAR
VERSION:2.0
PRODID:SchoolNow
CALSCALE:GREGORIAN
BEGIN:VEVENT
UID:29a8716e-f3b3-11eb-b4fe-0ef7a93f529d
DTSTAMP:20210802T170038Z
SUMMARY:Third Trimester Begins
URL;VALUE=URI:https://www.materdeicatholic.com/calendar/2652340/third-trime
 ster-begins
DTSTART;VALUE=DATE:20220314
DTEND;VALUE=DATE:20220315
END:VEVENT
END:VCALENDAR
