BEGIN:VCALENDAR
VERSION:2.0
PRODID:SchoolNow
CALSCALE:GREGORIAN
BEGIN:VEVENT
UID:1b30992c-f3b3-11eb-8476-0ef7a93f529d
DTSTAMP:20210802T170014Z
SUMMARY:Second Trimester Ends
URL;VALUE=URI:https://www.materdeicatholic.com/calendar/2652338/second-trim
 ester-ends
DTSTART;VALUE=DATE:20220311
DTEND;VALUE=DATE:20220312
END:VEVENT
END:VCALENDAR
