BEGIN:VCALENDAR
VERSION:2.0
PRODID:SchoolNow
CALSCALE:GREGORIAN
BEGIN:VEVENT
UID:9c87faac-f3b2-11eb-a4ec-0ef7a93f529d
DTSTAMP:20210802T165920Z
SUMMARY:Terra Nova Testing
URL;VALUE=URI:https://www.materdeicatholic.com/calendar/2652283/terra-nova-
 testing
DTSTART;VALUE=DATE:20220307
DTEND;VALUE=DATE:20220312
END:VEVENT
END:VCALENDAR
